BEGIN:VCALENDAR
VERSION:2.0
PRODID:iheid
X-WR-TIMEZONE:Europe/Zurich
BEGIN:VTIMEZONE
TZID:Europe/Zurich
X-LIC-LOCATION:Europe/Zurich
END:VTIMEZONE
BEGIN:VEVENT
UID:69e6305941e82
DTSTART:20201130T140000Z
SEQUENCE:0
TRANSP:OPAQUE
DTEND:20201130T153000Z
LOCATION:No location specified
SUMMARY:Professor Dr. Hong Zhao | Farewell Remarks and Presentation
CLASS:PUBLIC
DESCRIPTION:Professor Dr. Hong Zhao | Farewell Remarks and Presentation by 
 Geneva Trade Platform | Guest speaker: Professor Dr. Hong Zhao .\n\n\n\nEv
 ent connection: 
DTSTAMP:20260420T155537Z
END:VEVENT
END:VCALENDAR