BEGIN:VCALENDAR
VERSION:2.0
PRODID:iheid
X-WR-TIMEZONE:Europe/Zurich
BEGIN:VTIMEZONE
TZID:Europe/Zurich
X-LIC-LOCATION:Europe/Zurich
END:VTIMEZONE
BEGIN:VEVENT
UID:69e800f27e483
DTSTART:20201204T000000Z
SEQUENCE:0
TRANSP:OPAQUE
DTEND:20201204T023000Z
LOCATION:No location specified
SUMMARY:The Rise of FinTech
CLASS:PUBLIC
DESCRIPTION:The Rise of FinTech by Professor Yi Huang\, Keynote Speaker.\n\
 n\n\nEvent connection: 
DTSTAMP:20260422T005754Z
END:VEVENT
END:VCALENDAR