BEGIN:VCALENDAR
VERSION:2.0
PRODID:iheid
X-WR-TIMEZONE:Europe/Zurich
BEGIN:VTIMEZONE
TZID:Europe/Zurich
X-LIC-LOCATION:Europe/Zurich
END:VTIMEZONE
BEGIN:VEVENT
UID:69e7305ea8f51
DTSTART:20201216T130000Z
SEQUENCE:0
TRANSP:OPAQUE
DTEND:20201216T150000Z
LOCATION:Online Thesis Defence via Cisco Webex
SUMMARY:Between Recognition and Refusal Encountering Law through Bedouin La
 nd Rights in Palestine/Israel
CLASS:PUBLIC
DESCRIPTION:Between Recognition and Refusal Encountering Law through Bedoui
 n Land Rights in Palestine/Israel by Ms Maya Avis .\n\n\n\nEvent connectio
 n: 
DTSTAMP:20260421T100758Z
END:VEVENT
END:VCALENDAR