BEGIN:VCALENDAR
VERSION:2.0
PRODID:iheid
X-WR-TIMEZONE:Europe/Zurich
BEGIN:VTIMEZONE
TZID:Europe/Zurich
X-LIC-LOCATION:Europe/Zurich
END:VTIMEZONE
BEGIN:VEVENT
UID:69e7a09d785e9
DTSTART:20210204T090000Z
SEQUENCE:0
TRANSP:OPAQUE
DTEND:20210205T150000Z
LOCATION:No location specified
SUMMARY:POLITICO’s EU Studies & Career Fair
CLASS:PUBLIC
DESCRIPTION:POLITICO’s EU Studies &amp\; Career Fair by .\n\n\n\nEvent co
 nnection: 
DTSTAMP:20260421T180653Z
END:VEVENT
END:VCALENDAR