BEGIN:VCALENDAR
VERSION:2.0
PRODID:iheid
X-WR-TIMEZONE:Europe/Zurich
BEGIN:VTIMEZONE
TZID:Europe/Zurich
X-LIC-LOCATION:Europe/Zurich
END:VTIMEZONE
BEGIN:VEVENT
UID:69e7a0aebea14
DTSTART:20210301T110000Z
SEQUENCE:0
TRANSP:OPAQUE
DTEND:20210301T120000Z
LOCATION:No location specified
SUMMARY:Opportunities with Green Bonds and EU’s Sustainable Finance Refor
 m
CLASS:PUBLIC
DESCRIPTION:Opportunities with Green Bonds and EU’s Sustainable Finance R
 eform by Sean Kidney &amp\; Dawid Bastiat-Jarosz.\n\n\n\nEvent connection:
  
DTSTAMP:20260421T180710Z
END:VEVENT
END:VCALENDAR