BEGIN:VCALENDAR
VERSION:2.0
PRODID:iheid
X-WR-TIMEZONE:Europe/Zurich
BEGIN:VTIMEZONE
TZID:Europe/Zurich
X-LIC-LOCATION:Europe/Zurich
END:VTIMEZONE
BEGIN:VEVENT
UID:69e8ab9c3044c
DTSTART:20210308T173000Z
SEQUENCE:0
TRANSP:OPAQUE
DTEND:20210308T190000Z
LOCATION:Online event
SUMMARY:Women’s voices in the international judiciary. A question of just
 ice
CLASS:PUBLIC
DESCRIPTION:Women’s voices in the international judiciary. A question of 
 justice by Mme. Françoise Tulkens.\n\n\n\nEvent connection: 
DTSTAMP:20260422T130604Z
END:VEVENT
END:VCALENDAR