BEGIN:VCALENDAR
VERSION:2.0
PRODID:iheid
X-WR-TIMEZONE:Europe/Zurich
BEGIN:VTIMEZONE
TZID:Europe/Zurich
X-LIC-LOCATION:Europe/Zurich
END:VTIMEZONE
BEGIN:VEVENT
UID:69e7a0ada1660
DTSTART:20210426T163000Z
SEQUENCE:0
TRANSP:OPAQUE
DTEND:20210426T180000Z
LOCATION:Online event
SUMMARY:Diversity in aid of legitimacy of international arbitration?
CLASS:PUBLIC
DESCRIPTION:Diversity in aid of legitimacy of international arbitration? by
  Gabrielle Kaufmann-Kohler.\n\n\n\nEvent connection: 
DTSTAMP:20260421T180709Z
END:VEVENT
END:VCALENDAR