BEGIN:VCALENDAR
VERSION:2.0
PRODID:iheid
X-WR-TIMEZONE:Europe/Zurich
BEGIN:VTIMEZONE
TZID:Europe/Zurich
X-LIC-LOCATION:Europe/Zurich
END:VTIMEZONE
BEGIN:VEVENT
UID:69e7a09bbc0cc
DTSTART:20210322T173000Z
SEQUENCE:0
TRANSP:OPAQUE
DTEND:20210322T190000Z
LOCATION:Online event
SUMMARY:Women Delivering Justice: What’s Holding Them Back?
CLASS:PUBLIC
DESCRIPTION:Women Delivering Justice: What’s Holding Them Back? by Irene 
 Khan.\n\n\n\nEvent connection: 
DTSTAMP:20260421T180651Z
END:VEVENT
END:VCALENDAR