BEGIN:VCALENDAR
VERSION:2.0
PRODID:iheid
X-WR-TIMEZONE:Europe/Zurich
BEGIN:VTIMEZONE
TZID:Europe/Zurich
X-LIC-LOCATION:Europe/Zurich
END:VTIMEZONE
BEGIN:VEVENT
UID:69e8cbd854bad
DTSTART:20210127T113000Z
SEQUENCE:0
TRANSP:OPAQUE
DTEND:20210127T123000Z
LOCATION:No location specified
SUMMARY:Osez la reconversion professionnelle à 30\, 40 ou 50 ans !
CLASS:PUBLIC
DESCRIPTION:Osez la reconversion professionnelle à 30\, 40 ou 50 ans ! by 
 .\n\n\n\nEvent connection: 
DTSTAMP:20260422T152336Z
END:VEVENT
END:VCALENDAR