BEGIN:VCALENDAR
VERSION:2.0
PRODID:iheid
X-WR-TIMEZONE:Europe/Zurich
BEGIN:VTIMEZONE
TZID:Europe/Zurich
X-LIC-LOCATION:Europe/Zurich
END:VTIMEZONE
BEGIN:VEVENT
UID:69e7a0ae94969
DTSTART:20210203T113000Z
SEQUENCE:0
TRANSP:OPAQUE
DTEND:20210203T120000Z
LOCATION:Online Webinar
SUMMARY:Openness\, Innovation and Productivity: Evidence from Enterprise Su
 rveys
CLASS:PUBLIC
DESCRIPTION:Openness\, Innovation and Productivity: Evidence from Enterpris
 e Surveys by A part of the SNF - GVC Webinar Series.\n\n\n\nEvent connecti
 on: 
DTSTAMP:20260421T180710Z
END:VEVENT
END:VCALENDAR