BEGIN:VCALENDAR
VERSION:2.0
PRODID:iheid
X-WR-TIMEZONE:Europe/Zurich
BEGIN:VTIMEZONE
TZID:Europe/Zurich
X-LIC-LOCATION:Europe/Zurich
END:VTIMEZONE
BEGIN:VEVENT
UID:69ec9946dc2e2
DTSTART:20210223T170000Z
SEQUENCE:0
TRANSP:OPAQUE
DTEND:20210223T180000Z
LOCATION:No location specified
SUMMARY:Grand Morillon Student Residence Inauguration
CLASS:PUBLIC
DESCRIPTION:Grand Morillon Student Residence Inauguration by .\n\n\n\nEvent
  connection: 
DTSTAMP:20260425T123654Z
END:VEVENT
END:VCALENDAR