BEGIN:VCALENDAR
VERSION:2.0
PRODID:iheid
X-WR-TIMEZONE:Europe/Zurich
BEGIN:VTIMEZONE
TZID:Europe/Zurich
X-LIC-LOCATION:Europe/Zurich
END:VTIMEZONE
BEGIN:VEVENT
UID:69e90102358fe
DTSTART:20210210T160000Z
SEQUENCE:0
TRANSP:OPAQUE
DTEND:20210210T170000Z
LOCATION:No location specified
SUMMARY:COVID-19 AND AFRICA: HOW TO EMERGE FROM THE CRISIS?
CLASS:PUBLIC
DESCRIPTION:COVID-19 AND AFRICA: HOW TO EMERGE FROM THE CRISIS? by Carlos L
 opes.\n\n\n\nEvent connection: 
DTSTAMP:20260422T191026Z
END:VEVENT
END:VCALENDAR