BEGIN:VCALENDAR
VERSION:2.0
PRODID:iheid
X-WR-TIMEZONE:Europe/Zurich
BEGIN:VTIMEZONE
TZID:Europe/Zurich
X-LIC-LOCATION:Europe/Zurich
END:VTIMEZONE
BEGIN:VEVENT
UID:69e7edc394edd
DTSTART:20210128T120000Z
SEQUENCE:0
TRANSP:OPAQUE
DTEND:20210128T133000Z
LOCATION:Online conference
SUMMARY:Global Economic Prospects: A Subdued Recovery
CLASS:PUBLIC
DESCRIPTION:Global Economic Prospects: A Subdued Recovery by with the World
  Bank and CEPR.\n\n\n\nEvent connection: 
DTSTAMP:20260421T233603Z
END:VEVENT
END:VCALENDAR