BEGIN:VCALENDAR
VERSION:2.0
PRODID:iheid
X-WR-TIMEZONE:Europe/Zurich
BEGIN:VTIMEZONE
TZID:Europe/Zurich
X-LIC-LOCATION:Europe/Zurich
END:VTIMEZONE
BEGIN:VEVENT
UID:69e7a09a7c1c4
DTSTART:20210325T113000Z
SEQUENCE:0
TRANSP:OPAQUE
DTEND:20210325T123000Z
LOCATION:No location specified
SUMMARY:The March 2021 Israeli Elections: a Preliminary Analysis
CLASS:PUBLIC
DESCRIPTION:The March 2021 Israeli Elections: a Preliminary Analysis by RIC
 CARDO BOCCO\, PROFESSOR OF POLITICAL SOCIOLOGY AND CYRUS SCHAYEGH\, PROFES
 SOR OF INTERNATIONAL HISTORY AND POLITICS.\n\n\n\nEvent connection: 
DTSTAMP:20260421T180650Z
END:VEVENT
END:VCALENDAR