BEGIN:VCALENDAR
VERSION:2.0
PRODID:iheid
X-WR-TIMEZONE:Europe/Zurich
BEGIN:VTIMEZONE
TZID:Europe/Zurich
X-LIC-LOCATION:Europe/Zurich
END:VTIMEZONE
BEGIN:VEVENT
UID:69e6c4c87c419
DTSTART:20210211T120000Z
SEQUENCE:0
TRANSP:OPAQUE
DTEND:20210211T130000Z
LOCATION:Online Event&nbsp\;
SUMMARY:THE ROLE OF INTERNATIONAL LAW IN ADDRESSING CLIMATE CHANGE: WHERE T
 O GO NEXT?
CLASS:PUBLIC
DESCRIPTION:THE ROLE OF INTERNATIONAL LAW IN ADDRESSING CLIMATE CHANGE: WHE
 RE TO GO NEXT? by Will Thomas.\n\n\n\nEvent connection: 
DTSTAMP:20260421T022856Z
END:VEVENT
END:VCALENDAR