BEGIN:VCALENDAR
VERSION:2.0
PRODID:iheid
X-WR-TIMEZONE:Europe/Zurich
BEGIN:VTIMEZONE
TZID:Europe/Zurich
X-LIC-LOCATION:Europe/Zurich
END:VTIMEZONE
BEGIN:VEVENT
UID:69e7a09a0f86c
DTSTART:20210216T140000Z
SEQUENCE:0
TRANSP:OPAQUE
DTEND:20210216T150000Z
LOCATION:Online event
SUMMARY:COVID Response and Digital Trust
CLASS:PUBLIC
DESCRIPTION:COVID Response and Digital Trust by A DISCUSSION ON PROXIMITY T
 RACING APPLICATIONS.\n\n\n\nEvent connection: 
DTSTAMP:20260421T180650Z
END:VEVENT
END:VCALENDAR