BEGIN:VCALENDAR
VERSION:2.0
PRODID:iheid
X-WR-TIMEZONE:Europe/Zurich
BEGIN:VTIMEZONE
TZID:Europe/Zurich
X-LIC-LOCATION:Europe/Zurich
END:VTIMEZONE
BEGIN:VEVENT
UID:69ea87ebcbd1a
DTSTART:20210927T163000Z
SEQUENCE:0
TRANSP:OPAQUE
DTEND:20210927T180000Z
LOCATION:Online event.
SUMMARY:My Life as a Judge on the ICTR and ICC: Did I Make a Difference?
CLASS:PUBLIC
DESCRIPTION:My Life as a Judge on the ICTR and ICC: Did I Make a Difference
 ? by Dr. Navi Pillay.\n\n\n\nEvent connection: 
DTSTAMP:20260423T225819Z
END:VEVENT
END:VCALENDAR