BEGIN:VCALENDAR
VERSION:2.0
PRODID:iheid
X-WR-TIMEZONE:Europe/Zurich
BEGIN:VTIMEZONE
TZID:Europe/Zurich
X-LIC-LOCATION:Europe/Zurich
END:VTIMEZONE
BEGIN:VEVENT
UID:69e8ba2a2a525
DTSTART:20211025T163000Z
SEQUENCE:0
TRANSP:OPAQUE
DTEND:20211025T180000Z
LOCATION:Zoom webinar
SUMMARY:Gender Perspective at the ICC: Legal Principles and Institutional I
 mpact
CLASS:PUBLIC
DESCRIPTION:Gender Perspective at the ICC: Legal Principles and Institution
 al Impact by Dr. Silvia Fernández de Gurmendi.\n\n\n\nEvent connection: 
DTSTAMP:20260422T140810Z
END:VEVENT
END:VCALENDAR