BEGIN:VCALENDAR
VERSION:2.0
PRODID:iheid
X-WR-TIMEZONE:Europe/Zurich
BEGIN:VTIMEZONE
TZID:Europe/Zurich
X-LIC-LOCATION:Europe/Zurich
END:VTIMEZONE
BEGIN:VEVENT
UID:69e7a082bfa7d
DTSTART:20210217T160000Z
SEQUENCE:0
TRANSP:OPAQUE
DTEND:20210217T170000Z
LOCATION:Online seminar
SUMMARY:The Great Demographic Reversal: Ageing Societies\, Waning Inequalit
 y\, and an Inflation Revival
CLASS:PUBLIC
DESCRIPTION:The Great Demographic Reversal: Ageing Societies\, Waning Inequ
 ality\, and an Inflation Revival by Charles Goodhart &amp\; Manoj Pradhan.
 \n\n\n\nEvent connection: 
DTSTAMP:20260421T180626Z
END:VEVENT
END:VCALENDAR