BEGIN:VCALENDAR
VERSION:2.0
PRODID:iheid
X-WR-TIMEZONE:Europe/Zurich
BEGIN:VTIMEZONE
TZID:Europe/Zurich
X-LIC-LOCATION:Europe/Zurich
END:VTIMEZONE
BEGIN:VEVENT
UID:69ec0bf736a67
DTSTART:20210427T121500Z
SEQUENCE:0
TRANSP:OPAQUE
DTEND:20210427T134500Z
LOCATION:Webinar streamed via Zoom
SUMMARY:Urban Air Pollution and Sick Leaves: Evidence from Social Security 
 Data
CLASS:PUBLIC
DESCRIPTION:Urban Air Pollution and Sick Leaves: Evidence from Social Secur
 ity Data by Ulrich Wagner\, Professor of Quantitative Economics at Univers
 ity of Mannheim.\n\n\n\nEvent connection: 
DTSTAMP:20260425T023359Z
END:VEVENT
END:VCALENDAR