BEGIN:VCALENDAR
VERSION:2.0
PRODID:iheid
X-WR-TIMEZONE:Europe/Zurich
BEGIN:VTIMEZONE
TZID:Europe/Zurich
X-LIC-LOCATION:Europe/Zurich
END:VTIMEZONE
BEGIN:VEVENT
UID:69e6aad81b56f
DTSTART:20210510T140000Z
SEQUENCE:0
TRANSP:OPAQUE
DTEND:20210510T151500Z
LOCATION:Webinar streamed via Zoom
SUMMARY:Trade Protection Along Supply Chains
CLASS:PUBLIC
DESCRIPTION:Trade Protection Along Supply Chains by Paola Conconi\, Profess
 or of Economics at the Université Libre de Bruxelles.\n\n\n\nEvent connec
 tion: 
DTSTAMP:20260421T003816Z
END:VEVENT
END:VCALENDAR