BEGIN:VCALENDAR
VERSION:2.0
PRODID:iheid
X-WR-TIMEZONE:Europe/Zurich
BEGIN:VTIMEZONE
TZID:Europe/Zurich
X-LIC-LOCATION:Europe/Zurich
END:VTIMEZONE
BEGIN:VEVENT
UID:69e8cb5962fd4
DTSTART:20210223T120000Z
SEQUENCE:0
TRANSP:OPAQUE
DTEND:20210223T130000Z
LOCATION:Online event
SUMMARY:How can I make a lasting social impact in the private sector?
CLASS:PUBLIC
DESCRIPTION:How can I make a lasting social impact in the private sector? b
 y .\n\n\n\nEvent connection: 
DTSTAMP:20260422T152129Z
END:VEVENT
END:VCALENDAR