BEGIN:VCALENDAR
VERSION:2.0
PRODID:iheid
X-WR-TIMEZONE:Europe/Zurich
BEGIN:VTIMEZONE
TZID:Europe/Zurich
X-LIC-LOCATION:Europe/Zurich
END:VTIMEZONE
BEGIN:VEVENT
UID:69ecac87a005d
DTSTART:20210225T100000Z
SEQUENCE:0
TRANSP:OPAQUE
DTEND:20210225T113000Z
LOCATION:ONLINE EVENT
SUMMARY:Harnessing e-commerce post-COVID-19:  opportunities and challenges 
 for developing economies 
CLASS:PUBLIC
DESCRIPTION:Harnessing e-commerce post-COVID-19:  opportunities and challen
 ges for developing economies  by ORGANIZED BY UNECE IN PARTNERSHIP WITH TH
 E GENEVA TRADE PLATFORM.\n\n\n\nEvent connection: 
DTSTAMP:20260425T135903Z
END:VEVENT
END:VCALENDAR