BEGIN:VCALENDAR
VERSION:2.0
PRODID:iheid
X-WR-TIMEZONE:Europe/Zurich
BEGIN:VTIMEZONE
TZID:Europe/Zurich
X-LIC-LOCATION:Europe/Zurich
END:VTIMEZONE
BEGIN:VEVENT
UID:69e7a09d3d315
DTSTART:20210309T170000Z
SEQUENCE:0
TRANSP:OPAQUE
DTEND:20210309T180000Z
LOCATION:No location specified
SUMMARY:COVID-19 AND AFRICA: HOW TO EMERGE FROM THE CRISIS?
CLASS:PUBLIC
DESCRIPTION:COVID-19 AND AFRICA: HOW TO EMERGE FROM THE CRISIS? by Professo
 r Carlos Lopes.\n\n\n\nEvent connection: 
DTSTAMP:20260421T180653Z
END:VEVENT
END:VCALENDAR