BEGIN:VCALENDAR
VERSION:2.0
PRODID:iheid
X-WR-TIMEZONE:Europe/Zurich
BEGIN:VTIMEZONE
TZID:Europe/Zurich
X-LIC-LOCATION:Europe/Zurich
END:VTIMEZONE
BEGIN:VEVENT
UID:69ecfd8e4e945
DTSTART:20210309T140000Z
SEQUENCE:0
TRANSP:OPAQUE
DTEND:20210309T150000Z
LOCATION:Online Event
SUMMARY:Book Launch: The Flip Side of Free: Understanding the Economics of 
 the Internet
CLASS:PUBLIC
DESCRIPTION:Book Launch: The Flip Side of Free: Understanding the Economics
  of the Internet by DIGITAL GOVERNANCE HUB.\n\n\n\nEvent connection: 
DTSTAMP:20260425T194446Z
END:VEVENT
END:VCALENDAR