BEGIN:VCALENDAR
VERSION:2.0
PRODID:iheid
X-WR-TIMEZONE:Europe/Zurich
BEGIN:VTIMEZONE
TZID:Europe/Zurich
X-LIC-LOCATION:Europe/Zurich
END:VTIMEZONE
BEGIN:VEVENT
UID:69e766b55f8f1
DTSTART:20210305T151500Z
SEQUENCE:0
TRANSP:OPAQUE
DTEND:20210305T170000Z
LOCATION:Online Event
SUMMARY:IHEID and Neoliberalism:  Reflecting on the Institute’s neolibera
 l history and practice
CLASS:PUBLIC
DESCRIPTION:IHEID and Neoliberalism:  Reflecting on the Institute’s neoli
 beral history and practice by Opening remarks by Marie-Laure Salles (Direc
 tor\, The Graduate Institute).\n\n\n\nEvent connection: 
DTSTAMP:20260421T135949Z
END:VEVENT
END:VCALENDAR