BEGIN:VCALENDAR
VERSION:2.0
PRODID:iheid
X-WR-TIMEZONE:Europe/Zurich
BEGIN:VTIMEZONE
TZID:Europe/Zurich
X-LIC-LOCATION:Europe/Zurich
END:VTIMEZONE
BEGIN:VEVENT
UID:69ed360f67bad
DTSTART:20210310T160000Z
SEQUENCE:0
TRANSP:OPAQUE
DTEND:20210310T170000Z
LOCATION:No location specified
SUMMARY:The Devil is in the details: Referendums and Political Power
CLASS:PUBLIC
DESCRIPTION:The Devil is in the details: Referendums and Political Power by
  Susan Stokes\, Uwe Serdült and Yanina Welp.\n\n\n\nEvent connection: 
DTSTAMP:20260425T234551Z
END:VEVENT
END:VCALENDAR