BEGIN:VCALENDAR
VERSION:2.0
PRODID:iheid
X-WR-TIMEZONE:Europe/Zurich
BEGIN:VTIMEZONE
TZID:Europe/Zurich
X-LIC-LOCATION:Europe/Zurich
END:VTIMEZONE
BEGIN:VEVENT
UID:69e841ef036ee
DTSTART:20210324T151500Z
SEQUENCE:0
TRANSP:OPAQUE
DTEND:20210324T163000Z
LOCATION:Online
SUMMARY:Entangling apps and in/security governance in/of the Global South
CLASS:PUBLIC
DESCRIPTION:Entangling apps and in/security governance in/of the Global Sou
 th by Luisa Cruz Lobato.\n\n\n\nEvent connection: 
DTSTAMP:20260422T053511Z
END:VEVENT
END:VCALENDAR