BEGIN:VCALENDAR
VERSION:2.0
PRODID:iheid
X-WR-TIMEZONE:Europe/Zurich
BEGIN:VTIMEZONE
TZID:Europe/Zurich
X-LIC-LOCATION:Europe/Zurich
END:VTIMEZONE
BEGIN:VEVENT
UID:69e7beeedba3c
DTSTART:20210325T150000Z
SEQUENCE:0
TRANSP:OPAQUE
DTEND:20210325T160000Z
LOCATION:No location specified
SUMMARY:Non-commercial pharmaceutical R&D: What do PDPs suggest about costs
  and efficiency?
CLASS:PUBLIC
DESCRIPTION:Non-commercial pharmaceutical R&amp\;D: What do PDPs suggest ab
 out costs and efficiency? by Marcela Vieira.\n\n\n\nEvent connection: 
DTSTAMP:20260421T201614Z
END:VEVENT
END:VCALENDAR