BEGIN:VCALENDAR
VERSION:2.0
PRODID:iheid
X-WR-TIMEZONE:Europe/Zurich
BEGIN:VTIMEZONE
TZID:Europe/Zurich
X-LIC-LOCATION:Europe/Zurich
END:VTIMEZONE
BEGIN:VEVENT
UID:69ece57fe8d04
DTSTART:20210324T160000Z
SEQUENCE:0
TRANSP:OPAQUE
DTEND:20210324T163000Z
LOCATION:Virtual Event
SUMMARY:TASC BREAK | Crowdwork\, the Future of Work and the Law
CLASS:PUBLIC
DESCRIPTION:TASC BREAK | Crowdwork\, the Future of Work and the Law by TASC
  Platform.\n\n\n\nEvent connection: 
DTSTAMP:20260425T180207Z
END:VEVENT
END:VCALENDAR