BEGIN:VCALENDAR
VERSION:2.0
PRODID:iheid
X-WR-TIMEZONE:Europe/Zurich
BEGIN:VTIMEZONE
TZID:Europe/Zurich
X-LIC-LOCATION:Europe/Zurich
END:VTIMEZONE
BEGIN:VEVENT
UID:69e9010c3cc23
DTSTART:20220714T090000Z
SEQUENCE:0
TRANSP:OPAQUE
DTEND:20220714T100000Z
URL:https://iheid.webex.com/iheid/onstage/g.php?MTID=ead1249372012e6985422d
 874e7de376e
LOCATION:Online Event
SUMMARY:Launching of the Hong Kong Chapter of the Geneva Graduate Institute
  
CLASS:PUBLIC
DESCRIPTION:Launching of the Hong Kong Chapter of the Geneva Graduate Insti
 tute  by .\n\n\n\nEvent connection: https://iheid.webex.com/iheid/onstage/
 g.php?MTID=ead1249372012e6985422d874e7de376e
DTSTAMP:20260422T191036Z
END:VEVENT
END:VCALENDAR