BEGIN:VCALENDAR
VERSION:2.0
PRODID:iheid
X-WR-TIMEZONE:Europe/Zurich
BEGIN:VTIMEZONE
TZID:Europe/Zurich
X-LIC-LOCATION:Europe/Zurich
END:VTIMEZONE
BEGIN:VEVENT
UID:69e7b93d56f83
DTSTART:20210414T103000Z
SEQUENCE:0
TRANSP:OPAQUE
DTEND:20210414T120000Z
LOCATION:No location specified
SUMMARY:Indonesia in “3D”: Development\, Dictatorship and Democracy 
CLASS:PUBLIC
DESCRIPTION:Indonesia in “3D”: Development\, Dictatorship and Democracy
   by Jean-Luc Maurer\, Gerry Rodgers\, Wening Udasmoro.\n\n\n\nEvent conne
 ction: 
DTSTAMP:20260421T195157Z
END:VEVENT
END:VCALENDAR