BEGIN:VCALENDAR
VERSION:2.0
PRODID:iheid
X-WR-TIMEZONE:Europe/Zurich
BEGIN:VTIMEZONE
TZID:Europe/Zurich
X-LIC-LOCATION:Europe/Zurich
END:VTIMEZONE
BEGIN:VEVENT
UID:69ecc477f2939
DTSTART:20210325T130000Z
SEQUENCE:0
TRANSP:OPAQUE
DTEND:20210325T160000Z
LOCATION:Online
SUMMARY:Social Movements\, Mass Mobilisations & Protest in the Pandemic
CLASS:PUBLIC
DESCRIPTION:Social Movements\, Mass Mobilisations &amp\; Protest in the Pan
 demic by .\n\n\n\nEvent connection: 
DTSTAMP:20260425T154111Z
END:VEVENT
END:VCALENDAR