BEGIN:VCALENDAR
VERSION:2.0
PRODID:iheid
X-WR-TIMEZONE:Europe/Zurich
BEGIN:VTIMEZONE
TZID:Europe/Zurich
X-LIC-LOCATION:Europe/Zurich
END:VTIMEZONE
BEGIN:VEVENT
UID:69ecbd9c1f233
DTSTART:20210602T130000Z
SEQUENCE:0
TRANSP:OPAQUE
DTEND:20210604T163000Z
LOCATION:No location specified
SUMMARY:Eighth CEPR Economic History Symposium
CLASS:PUBLIC
DESCRIPTION:Eighth CEPR Economic History Symposium by Generously supported 
 by the Graduate Institute of International and Development Studies\, the U
 niversity of Geneva\, the Swiss National Bank\, and CEPR..\n\n\n\nEvent co
 nnection: 
DTSTAMP:20260425T151156Z
END:VEVENT
END:VCALENDAR