BEGIN:VCALENDAR
VERSION:2.0
PRODID:iheid
X-WR-TIMEZONE:Europe/Zurich
BEGIN:VTIMEZONE
TZID:Europe/Zurich
X-LIC-LOCATION:Europe/Zurich
END:VTIMEZONE
BEGIN:VEVENT
UID:69e7a0d9082e1
DTSTART:20210503T101500Z
SEQUENCE:0
TRANSP:OPAQUE
DTEND:20210503T114500Z
LOCATION:online
SUMMARY:Paths Panel: The Interaction of Law and Politics in Norm Implementa
 tion
CLASS:PUBLIC
DESCRIPTION:Paths Panel: The Interaction of Law and Politics in Norm Implem
 entation by Anette Stimmer\, University of Oxford.\n\n\n\nEvent connection
 : 
DTSTAMP:20260421T180753Z
END:VEVENT
END:VCALENDAR