BEGIN:VCALENDAR
VERSION:2.0
PRODID:iheid
X-WR-TIMEZONE:Europe/Zurich
BEGIN:VTIMEZONE
TZID:Europe/Zurich
X-LIC-LOCATION:Europe/Zurich
END:VTIMEZONE
BEGIN:VEVENT
UID:69ebe218af9cd
DTSTART:20210512T103000Z
SEQUENCE:0
TRANSP:OPAQUE
DTEND:20210512T113000Z
LOCATION:No location specified
SUMMARY:THE GEOPOLITICS OF VACCINES
CLASS:PUBLIC
DESCRIPTION:THE GEOPOLITICS OF VACCINES by Eric Degila and Suerie Moon.\n\n
 \n\nEvent connection: 
DTSTAMP:20260424T233520Z
END:VEVENT
END:VCALENDAR