BEGIN:VCALENDAR
VERSION:2.0
PRODID:iheid
X-WR-TIMEZONE:Europe/Zurich
BEGIN:VTIMEZONE
TZID:Europe/Zurich
X-LIC-LOCATION:Europe/Zurich
END:VTIMEZONE
BEGIN:VEVENT
UID:69eb77e28649f
DTSTART:20210615T103000Z
SEQUENCE:0
TRANSP:OPAQUE
DTEND:20210615T113000Z
URL:https://iheid.webex.com/iheid/onstage/g.php?MTID=e7a55375818520d36c3206
 33b2da8b72d
LOCATION:No location specified
SUMMARY:Afghanistan’s Elusive Negotiation Process: From Peacebuilding Bac
 k to Peacemaking
CLASS:PUBLIC
DESCRIPTION:Afghanistan’s Elusive Negotiation Process: From Peacebuilding
  Back to Peacemaking by .\n\n\n\nEvent connection: https://iheid.webex.com
 /iheid/onstage/g.php?MTID=e7a55375818520d36c320633b2da8b72d
DTSTAMP:20260424T160210Z
END:VEVENT
END:VCALENDAR