BEGIN:VCALENDAR
VERSION:2.0
PRODID:iheid
X-WR-TIMEZONE:Europe/Zurich
BEGIN:VTIMEZONE
TZID:Europe/Zurich
X-LIC-LOCATION:Europe/Zurich
END:VTIMEZONE
BEGIN:VEVENT
UID:69e86ffbaed0f
DTSTART:20210525T170000Z
SEQUENCE:0
TRANSP:OPAQUE
DTEND:20210525T183000Z
LOCATION:Online event
SUMMARY:Understanding Blackness in 21st Century Latin America and the Carib
 bean
CLASS:PUBLIC
DESCRIPTION:Understanding Blackness in 21st Century Latin America and the C
 aribbean by .\n\n\n\nEvent connection: 
DTSTAMP:20260422T085139Z
END:VEVENT
END:VCALENDAR