BEGIN:VCALENDAR
VERSION:2.0
PRODID:iheid
X-WR-TIMEZONE:Europe/Zurich
BEGIN:VTIMEZONE
TZID:Europe/Zurich
X-LIC-LOCATION:Europe/Zurich
END:VTIMEZONE
BEGIN:VEVENT
UID:69e7a0d912464
DTSTART:20210608T103000Z
SEQUENCE:0
TRANSP:OPAQUE
DTEND:20210608T120000Z
LOCATION:Online (Zoom) and Maison de la paix (room S5)
SUMMARY:AHCD policy seminar: Planning Europe’s future: the making of the 
 Recovery Plan 
CLASS:PUBLIC
DESCRIPTION:AHCD policy seminar: Planning Europe’s future: the making of 
 the Recovery Plan  by Luciano Monti \; Anna Rita Ceddia .\n\n\n\nEvent con
 nection: 
DTSTAMP:20260421T180753Z
END:VEVENT
END:VCALENDAR