BEGIN:VCALENDAR
VERSION:2.0
PRODID:iheid
X-WR-TIMEZONE:Europe/Zurich
BEGIN:VTIMEZONE
TZID:Europe/Zurich
X-LIC-LOCATION:Europe/Zurich
END:VTIMEZONE
BEGIN:VEVENT
UID:69e55b44ac6de
DTSTART:20210616T121500Z
SEQUENCE:0
TRANSP:OPAQUE
DTEND:20210616T144500Z
LOCATION:No location specified
SUMMARY:Emerging Challenges for Global Citizens: A brief discussion of sele
 ctive topics DAY 1
CLASS:PUBLIC
DESCRIPTION:Emerging Challenges for Global Citizens: A brief discussion of 
 selective topics DAY 1 by .\n\n\n\nEvent connection: 
DTSTAMP:20260420T004628Z
END:VEVENT
END:VCALENDAR