BEGIN:VCALENDAR
VERSION:2.0
PRODID:iheid
X-WR-TIMEZONE:Europe/Zurich
BEGIN:VTIMEZONE
TZID:Europe/Zurich
X-LIC-LOCATION:Europe/Zurich
END:VTIMEZONE
BEGIN:VEVENT
UID:69eb3f9abf825
DTSTART:20210610T130000Z
SEQUENCE:0
TRANSP:OPAQUE
DTEND:20210610T140000Z
URL:https://iheid.webex.com/iheid/onstage/g.php?MTID=e265477b3775339f2568af
 ac626237ec9
LOCATION:Online
SUMMARY:Launch of Dataset on UN Peace Mission Mandates
CLASS:PUBLIC
DESCRIPTION:Launch of Dataset on UN Peace Mission Mandates by .\n\n\n\nEven
 t connection: https://iheid.webex.com/iheid/onstage/g.php?MTID=e265477b377
 5339f2568afac626237ec9
DTSTAMP:20260424T120202Z
END:VEVENT
END:VCALENDAR