BEGIN:VCALENDAR
VERSION:2.0
PRODID:iheid
X-WR-TIMEZONE:Europe/Zurich
BEGIN:VTIMEZONE
TZID:Europe/Zurich
X-LIC-LOCATION:Europe/Zurich
END:VTIMEZONE
BEGIN:VEVENT
UID:69e7a0923a90e
DTSTART:20210927T103000Z
SEQUENCE:0
TRANSP:OPAQUE
DTEND:20210927T120000Z
LOCATION:Auditorium Ivan Pictet A2 &nbsp\;
SUMMARY:Book Launch: Pax Transatlantica: America and Europe in the Post-Col
 d War Era
CLASS:PUBLIC
DESCRIPTION:Book Launch: Pax Transatlantica: America and Europe in the Post
 -Cold War Era by Jussi Hanhimaki\, Professor\, International History and P
 olitics Department.\n\n\n\nEvent connection: 
DTSTAMP:20260421T180642Z
END:VEVENT
END:VCALENDAR