BEGIN:VCALENDAR
VERSION:2.0
PRODID:iheid
X-WR-TIMEZONE:Europe/Zurich
BEGIN:VTIMEZONE
TZID:Europe/Zurich
X-LIC-LOCATION:Europe/Zurich
END:VTIMEZONE
BEGIN:VEVENT
UID:69e7b93ed1b4a
DTSTART:20210614T130000Z
SEQUENCE:0
TRANSP:OPAQUE
DTEND:20210614T140000Z
URL:https://iheid.webex.com/iheid/onstage/g.php?MTID=ee0a52adc96e8abba2671b
 33486f5f4ab
LOCATION:No location specified
SUMMARY:The Biden-Putin Summit: Perspectives for Global Politics
CLASS:PUBLIC
DESCRIPTION:The Biden-Putin Summit: Perspectives for Global Politics by wit
 h the GCSP.\n\n\n\nEvent connection: https://iheid.webex.com/iheid/onstage
 /g.php?MTID=ee0a52adc96e8abba2671b33486f5f4ab
DTSTAMP:20260421T195158Z
END:VEVENT
END:VCALENDAR