BEGIN:VCALENDAR
VERSION:2.0
PRODID:iheid
X-WR-TIMEZONE:Europe/Zurich
BEGIN:VTIMEZONE
TZID:Europe/Zurich
X-LIC-LOCATION:Europe/Zurich
END:VTIMEZONE
BEGIN:VEVENT
UID:69e7b93c7214c
DTSTART:20210621T101500Z
SEQUENCE:0
TRANSP:OPAQUE
DTEND:20210621T121500Z
URL:https://iheid.webex.com/iheid/onstage/g.php?MTID=ee9d49229e1aec966a454a
 a515c6d91ae
LOCATION:Online
SUMMARY:Refugees in times of COVID-19: the Challenges of Protection 
CLASS:PUBLIC
DESCRIPTION:Refugees in times of COVID-19: the Challenges of Protection  by
  Prof. Vincent Chetail\, GMC\, Dr. Madeline Garlick\, UNHCR \, Dr Santino 
 Severoni\, WHO.\n\nGlobal Migration Lecture on Refugees in times of COVID\
 n\nEvent connection: https://iheid.webex.com/iheid/onstage/g.php?MTID=ee9d
 49229e1aec966a454aa515c6d91ae
DTSTAMP:20260421T195156Z
END:VEVENT
END:VCALENDAR