BEGIN:VCALENDAR
VERSION:2.0
PRODID:iheid
X-WR-TIMEZONE:Europe/Zurich
BEGIN:VTIMEZONE
TZID:Europe/Zurich
X-LIC-LOCATION:Europe/Zurich
END:VTIMEZONE
BEGIN:VEVENT
UID:69e7a09c4d395
DTSTART:20210622T160000Z
SEQUENCE:0
TRANSP:OPAQUE
DTEND:20210622T190000Z
URL:https://iheid.webex.com/iheid/onstage/g.php?MTID=e1bf21be8b249224860763
 6b506e75b1b
LOCATION:Ivan Pictet Auditorium
SUMMARY:Massaker
CLASS:PUBLIC
DESCRIPTION:Massaker by With FIFOG et UMAM Lebanon Association.\n\n\n\nEven
 t connection: https://iheid.webex.com/iheid/onstage/g.php?MTID=e1bf21be8b2
 492248607636b506e75b1b
DTSTAMP:20260421T180652Z
END:VEVENT
END:VCALENDAR