BEGIN:VCALENDAR
VERSION:2.0
PRODID:iheid
X-WR-TIMEZONE:Europe/Zurich
BEGIN:VTIMEZONE
TZID:Europe/Zurich
X-LIC-LOCATION:Europe/Zurich
END:VTIMEZONE
BEGIN:VEVENT
UID:69e7a0ac3af7a
DTSTART:20210925T110000Z
SEQUENCE:0
TRANSP:OPAQUE
DTEND:20210926T000000Z
LOCATION:No location specified
SUMMARY:ALUMNI REUNION 2021
CLASS:PUBLIC
DESCRIPTION:ALUMNI REUNION 2021 by .\n\n\n\nEvent connection: 
DTSTAMP:20260421T180708Z
END:VEVENT
END:VCALENDAR