BEGIN:VCALENDAR
VERSION:2.0
PRODID:iheid
X-WR-TIMEZONE:Europe/Zurich
BEGIN:VTIMEZONE
TZID:Europe/Zurich
X-LIC-LOCATION:Europe/Zurich
END:VTIMEZONE
BEGIN:VEVENT
UID:69e8b1b34073c
DTSTART:20210819T163000Z
SEQUENCE:0
TRANSP:OPAQUE
DTEND:20210819T210000Z
LOCATION:No location specified
SUMMARY:Bern Chapter Get-Together
CLASS:PUBLIC
DESCRIPTION:Bern Chapter Get-Together by .\n\n\n\nEvent connection: 
DTSTAMP:20260422T133203Z
END:VEVENT
END:VCALENDAR