BEGIN:VCALENDAR
VERSION:2.0
PRODID:iheid
X-WR-TIMEZONE:Europe/Zurich
BEGIN:VTIMEZONE
TZID:Europe/Zurich
X-LIC-LOCATION:Europe/Zurich
END:VTIMEZONE
BEGIN:VEVENT
UID:69e8ad8050ab6
DTSTART:20211124T173000Z
SEQUENCE:0
TRANSP:OPAQUE
DTEND:20211124T203000Z
LOCATION:Auditorium Pictet. Maison de la Paix &nbsp\;
SUMMARY:Festival FILMAR/Los Lobos -  Film Screening and Debate
CLASS:PUBLIC
DESCRIPTION:Festival FILMAR/Los Lobos -  Film Screening and Debate by Prof 
 Vincent Chetail\, Prof Elisabeth Prügl\, Mariana De Jesus Mendez Melendez
 \, Zoya Anastassova.\n\nFestival FILMAR en Latino America\n\nEvent connect
 ion: 
DTSTAMP:20260422T131408Z
END:VEVENT
END:VCALENDAR