BEGIN:VCALENDAR
VERSION:2.0
PRODID:iheid
X-WR-TIMEZONE:Europe/Zurich
BEGIN:VTIMEZONE
TZID:Europe/Zurich
X-LIC-LOCATION:Europe/Zurich
END:VTIMEZONE
BEGIN:VEVENT
UID:69e7a094744c8
DTSTART:20210922T163000Z
SEQUENCE:0
TRANSP:OPAQUE
DTEND:20210922T180000Z
URL:https://iheid.webex.com/iheid/onstage/g.php?MTID=e42aa457e6dc14de301a40
 6b4efff3b94
LOCATION:Auditorium Ivan Pictet\, Maison de la paix\, Geneva
SUMMARY:A Rise in Humanity
CLASS:PUBLIC
DESCRIPTION:A Rise in Humanity by Felwine Sarr .\n\n\n\nEvent connection: h
 ttps://iheid.webex.com/iheid/onstage/g.php?MTID=e42aa457e6dc14de301a406b4e
 fff3b94
DTSTAMP:20260421T180644Z
END:VEVENT
END:VCALENDAR