BEGIN:VCALENDAR
VERSION:2.0
PRODID:iheid
X-WR-TIMEZONE:Europe/Zurich
BEGIN:VTIMEZONE
TZID:Europe/Zurich
X-LIC-LOCATION:Europe/Zurich
END:VTIMEZONE
BEGIN:VEVENT
UID:69e7a09b65e36
DTSTART:20210928T103000Z
SEQUENCE:0
TRANSP:OPAQUE
DTEND:20210928T113000Z
LOCATION:Auditorium A1A\, Maison de la paix\, Geneva.
SUMMARY:9/11 Twenty Years On
CLASS:PUBLIC
DESCRIPTION:9/11 Twenty Years On by Mohammad-Mahmoud Ould Mohamedou\, Profe
 ssor of International History and Politics.\n\n\n\nEvent connection: 
DTSTAMP:20260421T180651Z
END:VEVENT
END:VCALENDAR